BEGIN:VCALENDAR
VERSION:2.0
PRODID:-//Tierheim Solingen - ECPv6.15.17.1//NONSGML v1.0//EN
CALSCALE:GREGORIAN
METHOD:PUBLISH
X-WR-CALNAME:Tierheim Solingen
X-ORIGINAL-URL:https://tierheim-solingen.de
X-WR-CALDESC:Veranstaltungen für Tierheim Solingen
REFRESH-INTERVAL;VALUE=DURATION:PT1H
X-Robots-Tag:noindex
X-PUBLISHED-TTL:PT1H
BEGIN:VTIMEZONE
TZID:Europe/Berlin
BEGIN:DAYLIGHT
TZOFFSETFROM:+0100
TZOFFSETTO:+0200
TZNAME:CEST
DTSTART:20210328T010000
END:DAYLIGHT
BEGIN:STANDARD
TZOFFSETFROM:+0200
TZOFFSETTO:+0100
TZNAME:CET
DTSTART:20211031T010000
END:STANDARD
BEGIN:DAYLIGHT
TZOFFSETFROM:+0100
TZOFFSETTO:+0200
TZNAME:CEST
DTSTART:20220327T010000
END:DAYLIGHT
BEGIN:STANDARD
TZOFFSETFROM:+0200
TZOFFSETTO:+0100
TZNAME:CET
DTSTART:20221030T010000
END:STANDARD
BEGIN:DAYLIGHT
TZOFFSETFROM:+0100
TZOFFSETTO:+0200
TZNAME:CEST
DTSTART:20230326T010000
END:DAYLIGHT
BEGIN:STANDARD
TZOFFSETFROM:+0200
TZOFFSETTO:+0100
TZNAME:CET
DTSTART:20231029T010000
END:STANDARD
BEGIN:DAYLIGHT
TZOFFSETFROM:+0100
TZOFFSETTO:+0200
TZNAME:CEST
DTSTART:20240331T010000
END:DAYLIGHT
BEGIN:STANDARD
TZOFFSETFROM:+0200
TZOFFSETTO:+0100
TZNAME:CET
DTSTART:20241027T010000
END:STANDARD
BEGIN:DAYLIGHT
TZOFFSETFROM:+0100
TZOFFSETTO:+0200
TZNAME:CEST
DTSTART:20250330T010000
END:DAYLIGHT
BEGIN:STANDARD
TZOFFSETFROM:+0200
TZOFFSETTO:+0100
TZNAME:CET
DTSTART:20251026T010000
END:STANDARD
BEGIN:DAYLIGHT
TZOFFSETFROM:+0100
TZOFFSETTO:+0200
TZNAME:CEST
DTSTART:20260329T010000
END:DAYLIGHT
BEGIN:STANDARD
TZOFFSETFROM:+0200
TZOFFSETTO:+0100
TZNAME:CET
DTSTART:20261025T010000
END:STANDARD
END:VTIMEZONE
BEGIN:VEVENT
DTSTART;TZID=Europe/Berlin:20251122T130000
DTEND;TZID=Europe/Berlin:20251122T180000
DTSTAMP:20260420T170951
CREATED:20251028T171026Z
LAST-MODIFIED:20251028T171129Z
UID:26567-1763816400-1763834400@tierheim-solingen.de
SUMMARY:🎄 Adventsbasar 2025 im Tierheim Solingen
DESCRIPTION:Der Duft von frisch gebackenen Plätzchen\, festlich geschmückte Adventskränze und fröhliches Beisammensein – der Adventsbasar 2025 im Tierheim Solingen lädt herzlich zum gemütlichen Start in die Vorweihnachtszeit ein! \nFreut euch auf:✨ Adventskränze und weihnachtliche Dekorationen🍪 Leckere Plätzchen – für Mensch und Tier🥔 Reibekuchen\, Kuchen und wärmenden Punsch🎁 Einen Weihnachtswunschbaum für unsere Tierheimbewohner🐾 Tierzubehör und viele weitere liebevolle Geschenkideen \nKommt vorbei\, stöbert\, genießt und unterstützt dabei unsere Tiere.Wir freuen uns auf euch! ❤️ \nHier geht es zum Flyer
URL:https://tierheim-solingen.de/event/adventsbasar-2025/
LOCATION:Tierheim Solingen\, Strohn 3 42659 Solingen\, Strohn 3\, Solingen\, 42659\, Deutschland
ATTACH;FMTTYPE=image/jpeg:https://tierheim-solingen.de/wp-content/uploads/2025/10/IMG-20251013-WA0011.jpg
END:VEVENT
BEGIN:VEVENT
DTSTART;VALUE=DATE:20250628
DTEND;VALUE=DATE:20250630
DTSTAMP:20260420T170951
CREATED:20250425T153153Z
LAST-MODIFIED:20250427T130233Z
UID:22993-1751068800-1751241599@tierheim-solingen.de
SUMMARY:Sommerfest 2025
DESCRIPTION:🎉 Einladung zum Sommerfest im Tierheim Solingen 🐾 \nLiebe Tierfreundinnen und Tierfreunde\, \nAm 28. & 29. Juni 2025 von 11:00–17:00 Uhr laden wir euch ganz herzlich zum großen Sommerfest des Tierheim Solingen ein! \nFreut euch auf ein buntes Programm für die ganze Familie – Zwei- wie Vierbeiner sind herzlich willkommen: \n🐕 Hunderennen & Spaßparcours🐣 Kinderrallye🌱 Leckere vegetarische Speisen & kühle Getränke🎟️ Große Tombola mit tollen Gewinnen🖋️ Tätowierer vor Ort🐶 Vorstellung unserer Tierheimhunde🎨 Kreatives Handwerk🛍️ Info- & Verkaufsstände🚌 Shuttle-Service für entspannte Anreise \nOrt:Tierheim SolingenStrohn 3\, 42659 Solingen \nDas Sommerfest ist für uns mehr als nur ein Event – es ist ein Fest der Begegnung\, der Wertschätzung und des Engagements für den Tierschutz. Kommt vorbei\, lernt unsere Schützlinge kennen\, unterstützt uns und habt einfach eine wunderbare Zeit! \n💚 Wir freuen uns auf euch – mit Fell\, Federn oder Freund:innen im Schlepptau!
URL:https://tierheim-solingen.de/event/sommerfest-2025/
LOCATION:Tierheim Solingen\, Strohn 3 42659 Solingen\, Strohn 3\, Solingen\, 42659\, Deutschland
ATTACH;FMTTYPE=image/jpeg:https://tierheim-solingen.de/wp-content/uploads/2025/04/WhatsApp-Image-2025-04-23-at-18.13.58.jpeg
END:VEVENT
BEGIN:VEVENT
DTSTART;TZID=Europe/Berlin:20250625T180000
DTEND;TZID=Europe/Berlin:20250625T210000
DTSTAMP:20260420T170951
CREATED:20250409T094616Z
LAST-MODIFIED:20250520T174439Z
UID:22686-1750874400-1750885200@tierheim-solingen.de
SUMMARY:Jahreshauptversammlung 2025
DESCRIPTION:Liebe Mitglieder\, \nzu unserer diesjährigen Jahreshauptversammlung möchten wir Sie ganz herzlich einladen. \nDie Versammlung findet statt: \nam 25.06.2025 ab 17:30 Uhr (Einlass ab 18 Uhr) \nim Tierheim Solingen\, Strohn 3\, 42659 Solingen. \nTagesordnung: \n\nEröffnung/Begrüßung\nWahl VersammlungsleiterIn\nProtokoll Mitgliederversammlung 2024\nBericht des Vorstandes\nBericht Rechnungsprüferln\nWahl Rechnungsprüfer/in oder Steuerberater/in\nEntlastung des Vorstandes\nNeuwahl\nAnträge\nVerschiedenes\nAussprache\n\nBitte bringen Sie Ihren Lichtbildausweis mit! \nAnträge können schriftlich bis zum einschließlich den 11.06.2025 bei Andrea Kleimt\, Strohn 3\, 42659 Solingen eingereicht \n  \nBeitrags- und Spendenkonto: Stadtsparkasse Solingen IBAN: DE93 3425 0000 0000 0161 05 \nDie Einladung könnt ihr als PDF hier herunterladen
URL:https://tierheim-solingen.de/event/jahreshauptversammlung-2025/
LOCATION:Tierheim Solingen\, Strohn 3 42659 Solingen\, Strohn 3\, Solingen\, 42659\, Deutschland
ATTACH;FMTTYPE=image/jpeg:https://tierheim-solingen.de/wp-content/uploads/2025/04/Einladung-JHV-2025.jpeg
END:VEVENT
BEGIN:VEVENT
DTSTART;TZID=Europe/Berlin:20241123T130000
DTEND;TZID=Europe/Berlin:20241123T180000
DTSTAMP:20260420T170951
CREATED:20241010T095944Z
LAST-MODIFIED:20251028T170403Z
UID:19650-1732366800-1732384800@tierheim-solingen.de
SUMMARY:Adventsbasar 2024
DESCRIPTION:Am Samstag\, den 23.11.2024\, findet bei uns am Tierheim unser Adventsbasar statt. Hierzu möchten wir euch ganz herzlich einladen.\n\nIn der Zeit zwischen 13 und 18 Uhr könnt ihr euch an verschiedenen Ständen auf selbstgebastelte Adventskränze und Gestecke\, selbstgebackene Plätzchen für Mensch und Tier\, Marmeladen\, weihnachtliche Deko und Tierzubehör freuen.\n\nFür das leibliche Wohl ist natürlich auch gesorgt.\nLeckere Kuchen\, Waffeln und Reibekuchen\, Kaffee\, Glühwein und Kinderpunsch stehen für euch bereit.\n\nAm Wunschbaum für unsere Tiere findet ihr wieder Karten mit Fotos unserer Schützlinge. Verschiedene Wünsche können dann von euch bis Weihnachten erfüllt werden. \n\nWir freuen uns auf einen gemütliches Beisammensein und schöne gemeinsame Stunden am Tierheim. \n\nParkmöglichkeiten stehen am Wanderparkplatz Balkhauserweg (kostenfrei) sowie auf dem Parkplatz beim Minigolfplatz (kostenpflichtig) zur Verfügung.
URL:https://tierheim-solingen.de/event/adventsbasar-2024/
LOCATION:Tierheim Solingen\, Strohn 3 42659 Solingen\, Strohn 3\, Solingen\, 42659\, Deutschland
END:VEVENT
BEGIN:VEVENT
DTSTART;VALUE=DATE:20240629
DTEND;VALUE=DATE:20240701
DTSTAMP:20260420T170951
CREATED:20240216T101153Z
LAST-MODIFIED:20240216T101309Z
UID:16559-1719619200-1719791999@tierheim-solingen.de
SUMMARY:Sommerfest 2024
DESCRIPTION:
URL:https://tierheim-solingen.de/event/sommerfest-2024/
LOCATION:Tierheim Solingen\, Strohn 3 42659 Solingen\, Strohn 3\, Solingen\, 42659\, Deutschland
END:VEVENT
BEGIN:VEVENT
DTSTART;TZID=Europe/Berlin:20231125T130000
DTEND;TZID=Europe/Berlin:20231125T180000
DTSTAMP:20260420T170951
CREATED:20231115T233652Z
LAST-MODIFIED:20231116T092143Z
UID:15179-1700917200-1700935200@tierheim-solingen.de
SUMMARY:Adventsbasar 2023
DESCRIPTION:Wann?\nSamstag\, 25.11.2023\n13-18 Uhr \nWas gibt es?\n\nAdventskranze und weihnachtliche Deko\nLeckeres Geback für Mensch und Tier\nMarmelade\nKuchen\, Punsch und weitere Köstlichkeiten\nBrennmalerei\nWeihnachtswunschbaum\nfür unsere Tiere\nTierzubehör\nund vieles mehr\n\nWow! Wo muss ich hin?\nTlerheim Solingen\nStrohn 3\n42659
URL:https://tierheim-solingen.de/event/adventsbasar-2023/
END:VEVENT
BEGIN:VEVENT
DTSTART;TZID=Europe/Berlin:20221126T130000
DTEND;TZID=Europe/Berlin:20221126T180000
DTSTAMP:20260420T170951
CREATED:20221105T145513Z
LAST-MODIFIED:20221105T150331Z
UID:10299-1669467600-1669485600@tierheim-solingen.de
SUMMARY:Adventsbasar am Tierheim
DESCRIPTION:Einladung zu unserem Adventsbasar am Tierheim \n  \nAm 26.11.2022 findet am Tierheim von 13 – 18Uhr unser Adventsbasar statt. \n  \nSie erwarten an diesem besonderen Tag \n– selbstgebastelte Kränze und Gestecke \n– weihnachtliche Dekoration \n– Kaffee & Kuchen \n– Leckerer Fruchtpunsch \n– selbstgebackene Plätzchen und Marmeladen \n– Brennmalerei \n– ein Weihnachtswunschbaum für unsere Tiere \n– Tierzubehör \n  \nWir freuen uns auf ein gemütliches Beisammensein und darauf Sie bald bei uns am Tierheim begrüßen zu dürfen! \n  \n 
URL:https://tierheim-solingen.de/event/adventsbasar-am-tierheim/
ATTACH;FMTTYPE=image/jpeg:https://tierheim-solingen.de/wp-content/uploads/2022/11/IMG-20221102-WA0011.jpg
END:VEVENT
END:VCALENDAR